BEGIN:VCALENDAR
PRODID:-//Events Calendar//iCal4j 1.0//EN
CALSCALE:GREGORIAN
BEGIN:VEVENT
DTSTAMP:20260422T012208Z
DTSTART:20260501T000000
DTEND:20260501T235900
SUMMARY:Pass printemps chez Hapik
UID:f4ddc8d6-424b-4afe-8698-977f160f844c
END:VEVENT
END:VCALENDAR
