BEGIN:VCALENDAR
PRODID:-//Events Calendar//iCal4j 1.0//EN
CALSCALE:GREGORIAN
BEGIN:VEVENT
DTSTAMP:20260422T012025Z
DTSTART:20260504T000000
DTEND:20260504T235900
SUMMARY:Offres mai MAC
UID:1526387e-10a8-4cca-8880-dcbf02da7e20
END:VEVENT
END:VCALENDAR
