BEGIN:VCALENDAR
PRODID:-//Events Calendar//iCal4j 1.0//EN
CALSCALE:GREGORIAN
BEGIN:VEVENT
DTSTAMP:20260422T011927Z
DTSTART:20260420T000000
DTEND:20260420T235900
SUMMARY:Jeu concours Mod's Hair !
UID:18a72d61-064f-4908-815f-e0abaa79821e
END:VEVENT
END:VCALENDAR
