BEGIN:VCALENDAR
PRODID:-//Events Calendar//iCal4j 1.0//EN
CALSCALE:GREGORIAN
BEGIN:VEVENT
DTSTAMP:20260422T011855Z
DTSTART:20260408T000000
DTEND:20260408T235900
SUMMARY:Offre Printemps JD Sports
UID:09ea9173-4cc4-4497-8e4e-5802635d9ccd
END:VEVENT
END:VCALENDAR
