BEGIN:VCALENDAR
PRODID:-//Events Calendar//iCal4j 1.0//EN
CALSCALE:GREGORIAN
BEGIN:VEVENT
DTSTAMP:20260422T011711Z
DTSTART:20260313T000000
DTEND:20260313T235900
SUMMARY:Offre chez JD Sports
UID:34b732ce-1959-4d08-a669-64bdf5a1a907
END:VEVENT
END:VCALENDAR
