BEGIN:VCALENDAR
PRODID:-//Events Calendar//iCal4j 1.0//EN
CALSCALE:GREGORIAN
BEGIN:VEVENT
DTSTAMP:20260422T012116Z
DTSTART:20260307T000000
DTEND:20260307T235900
SUMMARY:Tempête de billets le 7 mars ! 
UID:ad046bf3-2e5d-4256-9bf5-94e1f190c469
END:VEVENT
END:VCALENDAR
