BEGIN:VCALENDAR
PRODID:-//Events Calendar//iCal4j 1.0//EN
CALSCALE:GREGORIAN
BEGIN:VEVENT
DTSTAMP:20260422T011711Z
DTSTART:20260219T000000
DTEND:20260219T235900
SUMMARY:Offre Only 
UID:8acd86b3-f288-4889-9ad1-7e846fd35eac
END:VEVENT
END:VCALENDAR
